BEGIN:VCALENDAR
VERSION:2.0
PRODID:-//Great Lakes Floral Association - ECPv6.15.20//NONSGML v1.0//EN
CALSCALE:GREGORIAN
METHOD:PUBLISH
X-WR-CALNAME:Great Lakes Floral Association
X-ORIGINAL-URL:https://greatlakesfloralassociation.org
X-WR-CALDESC:Events for Great Lakes Floral Association
REFRESH-INTERVAL;VALUE=DURATION:PT1H
X-Robots-Tag:noindex
X-PUBLISHED-TTL:PT1H
BEGIN:VTIMEZONE
TZID:America/Detroit
BEGIN:DAYLIGHT
TZOFFSETFROM:-0500
TZOFFSETTO:-0400
TZNAME:EDT
DTSTART:20240310T070000
END:DAYLIGHT
BEGIN:STANDARD
TZOFFSETFROM:-0400
TZOFFSETTO:-0500
TZNAME:EST
DTSTART:20241103T060000
END:STANDARD
BEGIN:DAYLIGHT
TZOFFSETFROM:-0500
TZOFFSETTO:-0400
TZNAME:EDT
DTSTART:20250309T070000
END:DAYLIGHT
BEGIN:STANDARD
TZOFFSETFROM:-0400
TZOFFSETTO:-0500
TZNAME:EST
DTSTART:20251102T060000
END:STANDARD
BEGIN:DAYLIGHT
TZOFFSETFROM:-0500
TZOFFSETTO:-0400
TZNAME:EDT
DTSTART:20260308T070000
END:DAYLIGHT
BEGIN:STANDARD
TZOFFSETFROM:-0400
TZOFFSETTO:-0500
TZNAME:EST
DTSTART:20261101T060000
END:STANDARD
END:VTIMEZONE
BEGIN:VEVENT
DTSTART;TZID=America/Detroit:20251022T180000
DTEND;TZID=America/Detroit:20251022T200000
DTSTAMP:20260424T074003
CREATED:20250904T152546Z
LAST-MODIFIED:20250904T152547Z
UID:16577-1761156000-1761163200@greatlakesfloralassociation.org
SUMMARY:Ludema’s Floral & Garden - Fun With Flowers & Tennessee Clay by Syndicate
DESCRIPTION:“Fun with Flowers and Tennessee Clay by Syndicate”\n\n\n\n* Ludema’s Floral & Garden – Grand Rapids\, MI *\n\n\n\n\n\n\n\n \n\n\n\n\nDetails & Online Registration Here
URL:https://greatlakesfloralassociation.org/event/ludemas-floral-garden-fun-with-flowers-tennessee-clay-by-syndicate/
LOCATION:MI
CATEGORIES:Education - Hands On
END:VEVENT
END:VCALENDAR