BEGIN:VCALENDAR
VERSION:2.0
PRODID:-//Great Lakes Floral Association - ECPv6.15.20//NONSGML v1.0//EN
CALSCALE:GREGORIAN
METHOD:PUBLISH
X-WR-CALNAME:Great Lakes Floral Association
X-ORIGINAL-URL:https://greatlakesfloralassociation.org
X-WR-CALDESC:Events for Great Lakes Floral Association
REFRESH-INTERVAL;VALUE=DURATION:PT1H
X-Robots-Tag:noindex
X-PUBLISHED-TTL:PT1H
BEGIN:VTIMEZONE
TZID:America/Detroit
BEGIN:DAYLIGHT
TZOFFSETFROM:-0500
TZOFFSETTO:-0400
TZNAME:EDT
DTSTART:20240310T070000
END:DAYLIGHT
BEGIN:STANDARD
TZOFFSETFROM:-0400
TZOFFSETTO:-0500
TZNAME:EST
DTSTART:20241103T060000
END:STANDARD
BEGIN:DAYLIGHT
TZOFFSETFROM:-0500
TZOFFSETTO:-0400
TZNAME:EDT
DTSTART:20250309T070000
END:DAYLIGHT
BEGIN:STANDARD
TZOFFSETFROM:-0400
TZOFFSETTO:-0500
TZNAME:EST
DTSTART:20251102T060000
END:STANDARD
BEGIN:DAYLIGHT
TZOFFSETFROM:-0500
TZOFFSETTO:-0400
TZNAME:EDT
DTSTART:20260308T070000
END:DAYLIGHT
BEGIN:STANDARD
TZOFFSETFROM:-0400
TZOFFSETTO:-0500
TZNAME:EST
DTSTART:20261101T060000
END:STANDARD
END:VTIMEZONE
BEGIN:VEVENT
DTSTART;TZID=America/Detroit:20251014T173000
DTEND;TZID=America/Detroit:20251014T200000
DTSTAMP:20260424T073855
CREATED:20250812T031556Z
LAST-MODIFIED:20250812T032443Z
UID:16490-1760463000-1760472000@greatlakesfloralassociation.org
SUMMARY:Warren Kennicott Floral Truth Tour 2025
DESCRIPTION:“The Floral Truth Tour 2025”\n\n\n\n*** Kennicott – Warren\, MI ***\n\n\n\n \n\n\n\n\n\n\n\n\n\n\n\n\n\n\n\n\nDetails & Online Registration Here
URL:https://greatlakesfloralassociation.org/event/warren-mi-kennicott-floral-truth-tour-2025/
LOCATION:MI
CATEGORIES:Education - Hands On
END:VEVENT
BEGIN:VEVENT
DTSTART;TZID=America/Detroit:20251014T173000
DTEND;TZID=America/Detroit:20251014T200000
DTSTAMP:20260424T073855
CREATED:20250812T031954Z
LAST-MODIFIED:20250812T032352Z
UID:16493-1760463000-1760472000@greatlakesfloralassociation.org
SUMMARY:Chicago Kennicott Floral Truth Tour 2025
DESCRIPTION:“The Floral Truth Tour 2025”\n\n\n\n*** Kennicott – Chicago\, IL ***\n\n\n\n \n\n\n\n\n\n\n\n\n\n\n\n\n\n\n\n\nDetails & Online Registration Here
URL:https://greatlakesfloralassociation.org/event/chicago-il-kennicott-floral-truth-tour-2025/
LOCATION:MI
CATEGORIES:Education - Hands On
END:VEVENT
END:VCALENDAR