BEGIN:VCALENDAR
VERSION:2.0
PRODID:-//Great Lakes Floral Association - ECPv6.15.20//NONSGML v1.0//EN
CALSCALE:GREGORIAN
METHOD:PUBLISH
X-WR-CALNAME:Great Lakes Floral Association
X-ORIGINAL-URL:https://greatlakesfloralassociation.org
X-WR-CALDESC:Events for Great Lakes Floral Association
REFRESH-INTERVAL;VALUE=DURATION:PT1H
X-Robots-Tag:noindex
X-PUBLISHED-TTL:PT1H
BEGIN:VTIMEZONE
TZID:America/Detroit
BEGIN:DAYLIGHT
TZOFFSETFROM:-0500
TZOFFSETTO:-0400
TZNAME:EDT
DTSTART:20240310T070000
END:DAYLIGHT
BEGIN:STANDARD
TZOFFSETFROM:-0400
TZOFFSETTO:-0500
TZNAME:EST
DTSTART:20241103T060000
END:STANDARD
BEGIN:DAYLIGHT
TZOFFSETFROM:-0500
TZOFFSETTO:-0400
TZNAME:EDT
DTSTART:20250309T070000
END:DAYLIGHT
BEGIN:STANDARD
TZOFFSETFROM:-0400
TZOFFSETTO:-0500
TZNAME:EST
DTSTART:20251102T060000
END:STANDARD
BEGIN:DAYLIGHT
TZOFFSETFROM:-0500
TZOFFSETTO:-0400
TZNAME:EDT
DTSTART:20260308T070000
END:DAYLIGHT
BEGIN:STANDARD
TZOFFSETFROM:-0400
TZOFFSETTO:-0500
TZNAME:EST
DTSTART:20261101T060000
END:STANDARD
END:VTIMEZONE
BEGIN:VEVENT
DTSTART;TZID=America/Detroit:20251008T100000
DTEND;TZID=America/Detroit:20251008T160000
DTSTAMP:20260424T073850
CREATED:20241206T042633Z
LAST-MODIFIED:20250108T215435Z
UID:15647-1759917600-1759939200@greatlakesfloralassociation.org
SUMMARY:Steps to Certification Class
DESCRIPTION:Steps to Certification \n\n\n\n\n Do’s & Don’ts for Testing\n\n\n\n Methods & Mechanics for Hands On\n\n\n\n Insight & Answers\n\n\n\n\nCindy guides those who plan on becoming a Certified Florist. Tips on how to prepare for both the written and design portions of the test. Students will spend part of the day reviewing the written test and then work in the design room learning what is needed to pass the exam. Attendees will leave with a clear understanding of what it takes to pass the prestigious CF exam. \n\n\n\nThe limited course enrollment of 6 will ensure that each student receives personal attention \n\n\n\n \n\n\n\n\nRegister Here
URL:https://greatlakesfloralassociation.org/event/steps-to-certification-12/
LOCATION:GLFA Education Center\, 1152 Haslett Road\, Haslett\, MI\, 48840\, United States
CATEGORIES:Education - Hands On
ORGANIZER;CN="Great Lakes Floral Association":MAILTO:info@greatlakesfloralassociation.org
END:VEVENT
BEGIN:VEVENT
DTSTART;TZID=America/Detroit:20251008T173000
DTEND;TZID=America/Detroit:20251008T200000
DTSTAMP:20260424T073850
CREATED:20250812T031016Z
LAST-MODIFIED:20250812T032657Z
UID:16487-1759944600-1759953600@greatlakesfloralassociation.org
SUMMARY:South Bend Kennicott Floral Truth Tour 2025
DESCRIPTION:“The Floral Truth Tour 2025”\n\n\n\n** Kennicott – South Bend\, IN **\n\n\n\n \n\n\n\n\n\n\n\n\n\n\n\n\n\n\n\n\nDetails & Online Registration Here
URL:https://greatlakesfloralassociation.org/event/south-bend-in-kennicott-floral-truth-tour-2025/
LOCATION:MI
CATEGORIES:Education - Hands On
END:VEVENT
END:VCALENDAR