BEGIN:VCALENDAR
VERSION:2.0
PRODID:-//Great Lakes Floral Association - ECPv6.15.20//NONSGML v1.0//EN
CALSCALE:GREGORIAN
METHOD:PUBLISH
X-ORIGINAL-URL:https://greatlakesfloralassociation.org
X-WR-CALDESC:Events for Great Lakes Floral Association
REFRESH-INTERVAL;VALUE=DURATION:PT1H
X-Robots-Tag:noindex
X-PUBLISHED-TTL:PT1H
BEGIN:VTIMEZONE
TZID:America/Detroit
BEGIN:DAYLIGHT
TZOFFSETFROM:-0500
TZOFFSETTO:-0400
TZNAME:EDT
DTSTART:20230312T070000
END:DAYLIGHT
BEGIN:STANDARD
TZOFFSETFROM:-0400
TZOFFSETTO:-0500
TZNAME:EST
DTSTART:20231105T060000
END:STANDARD
BEGIN:DAYLIGHT
TZOFFSETFROM:-0500
TZOFFSETTO:-0400
TZNAME:EDT
DTSTART:20240310T070000
END:DAYLIGHT
BEGIN:STANDARD
TZOFFSETFROM:-0400
TZOFFSETTO:-0500
TZNAME:EST
DTSTART:20241103T060000
END:STANDARD
BEGIN:DAYLIGHT
TZOFFSETFROM:-0500
TZOFFSETTO:-0400
TZNAME:EDT
DTSTART:20250309T070000
END:DAYLIGHT
BEGIN:STANDARD
TZOFFSETFROM:-0400
TZOFFSETTO:-0500
TZNAME:EST
DTSTART:20251102T060000
END:STANDARD
END:VTIMEZONE
BEGIN:VEVENT
DTSTART;TZID=America/Detroit:20241029T180000
DTEND;TZID=America/Detroit:20241029T200000
DTSTAMP:20260424T235927
CREATED:20240723T175049Z
LAST-MODIFIED:20240814T195216Z
UID:15195-1730224800-1730232000@greatlakesfloralassociation.org
SUMMARY:Elements of Design Found in Floral Arrangements
DESCRIPTION:Regional Meeting / Workshop\n\n\n\nKeeping you at the forefront of the floral industry with Professional Development!\n\n\n\n \n\n\n\n \n\n\n\n“Elements of Design Found in Floral Arrangements”\n\n\n\n \n\n\n\nHey there\, fellow floral enthusiasts! Let’s dive into the building blocks of any stunning floral arrangement\, the elements of design. These elements are like the magic ingredients that work together to create visual masterpieces. \n\n\n\nReady to get inspired? Let’s explore the elements one by one: \n\n\n\n\nColor: Picture a rainbow of vibrant hues and soft pastels. Color is all about creating a visual feast and setting the mood.\n\n\n\nForm/Shape: Think of the unique shapes and structures of flowers. They can be round\, spiky\, or gracefully curved\, adding depth and interest to your arrangements.\n\n\n\nFragrance: Ah\, the sweet scents! Fragrance is like the invisible perfume of your arrangement\, creating a sensory experience that captivates the senses.\n\n\n\nLine: Imagine the stems and branches as graceful lines. They guide the eye\, creating a sense of movement and flow.\n\n\n\nSize: From tiny buds to dramatic blooms\, size matters! It’s all about finding the perfect balance and creating a cohesive arrangement.\n\n\n\nTexture: Smooth\, velvety\, or prickly texture adds a tactile dimension to your arrangements. It’s like touching a masterpiece!\n\n\n\n\nNow\, the best part—the workshop! Come join us and let’s explore these elements together. We’ll dive deep into each one\, providing tips\, tricks\, and hands-on practice. You’ll leave feeling confident and ready to create breathtaking floral arrangements that’ll steal the show. \n\n\n\nDon’t miss this chance to learn\, network and share experience with industry peers!  This event is open to all industry members.  The hands-on workshop is available to the first 20 people who register.  Cost to participate in the workshop is $50 for GLFA members and $80 for non-members.  All attendees are welcome to watch the workshop.  \n\n\n\nSo\, grab your creativity\, a dash of passion\, and register to attend today! \n\n\n\n6:00 – 6:30 (workshop check in\, networking\, shopping) \n\n\n\n6:30 – 7:30 (workshop\, shopping) \n\n\n\n7:30 – 8:00 (networking\, shopping\, wrap up) \n\n\n\n \n\n\n\nCOST: $50.00 member $80.00 non-member (All attendees are welcome to watch the workshop)REGISTRATION FEES ARE NON – REFUNDABLE! \n\n\n\nInstructor: Jerome Raska AAF\, AIFD\, CF\, CFD\, PFCI \n\n\n\n \n\n\n\n \n\n\n\n\n\n\n\n\n\n\n\nJerome Raska AAF\, AIFD\, CF\, CFD\, PFCIIn the floral industry for over 30 years\, Jerome shares his experiences as a Teleflora Education Specialist with florists\, garden clubs\, and suppliers across the country. He is the past president of the Great Lakes Floral Association and has served the floral industry in many different capacities through SAF and AIFD.  \n\n\n\n\n\n \n\n\n\n \n\n\n\n \n\n\n\n\nRegister Online here\n\n\n\n\n \n\n\n\n \n\n\n\nThank you to our Sponsors!
URL:https://greatlakesfloralassociation.org/event/elements-of-design-found-in-floral-arrangements-9/
LOCATION:Event Theory\, 1449 Industry Dr\,\, Traverse City\, Michigan\, 49696\, United States
CATEGORIES:Education - Hands On,Regional Meetings
ORGANIZER;CN="Great Lakes Floral Association":MAILTO:info@greatlakesfloralassociation.org
END:VEVENT
END:VCALENDAR