BEGIN:VCALENDAR
VERSION:2.0
PRODID:-//Great Lakes Floral Association - ECPv6.15.20//NONSGML v1.0//EN
CALSCALE:GREGORIAN
METHOD:PUBLISH
X-WR-CALNAME:Great Lakes Floral Association
X-ORIGINAL-URL:https://greatlakesfloralassociation.org
X-WR-CALDESC:Events for Great Lakes Floral Association
REFRESH-INTERVAL;VALUE=DURATION:PT1H
X-Robots-Tag:noindex
X-PUBLISHED-TTL:PT1H
BEGIN:VTIMEZONE
TZID:America/Detroit
BEGIN:DAYLIGHT
TZOFFSETFROM:-0500
TZOFFSETTO:-0400
TZNAME:EDT
DTSTART:20230312T070000
END:DAYLIGHT
BEGIN:STANDARD
TZOFFSETFROM:-0400
TZOFFSETTO:-0500
TZNAME:EST
DTSTART:20231105T060000
END:STANDARD
BEGIN:DAYLIGHT
TZOFFSETFROM:-0500
TZOFFSETTO:-0400
TZNAME:EDT
DTSTART:20240310T070000
END:DAYLIGHT
BEGIN:STANDARD
TZOFFSETFROM:-0400
TZOFFSETTO:-0500
TZNAME:EST
DTSTART:20241103T060000
END:STANDARD
BEGIN:DAYLIGHT
TZOFFSETFROM:-0500
TZOFFSETTO:-0400
TZNAME:EDT
DTSTART:20250309T070000
END:DAYLIGHT
BEGIN:STANDARD
TZOFFSETFROM:-0400
TZOFFSETTO:-0500
TZNAME:EST
DTSTART:20251102T060000
END:STANDARD
END:VTIMEZONE
BEGIN:VEVENT
DTSTART;TZID=America/Detroit:20240519T090000
DTEND;TZID=America/Detroit:20240523T170000
DTSTAMP:20260425T050458
CREATED:20240206T204915Z
LAST-MODIFIED:20240424T183212Z
UID:14304-1716109200-1716483600@greatlakesfloralassociation.org
SUMMARY:Intermediate Floral Design (5-day course)
DESCRIPTION:Professional Development\n\n\n\nKeeping you at the forefront of the floral industry with Professional Development! \n\n\n\nGLFA Education Center PresentsIntermediate Floral Design\n\n\n\n \n\n\n\n \n\n\n\n \n\n\n\nInstructor: Cindy Ching\, AIFD\,CFMember $1\,500; Non-Member $1\,750 (Includes all flowers/supplies\, fees are non-refundable)WHEN: May 19 – 23\, 2024 (Sun. – Thu.) 9am to 5pmWHERE: GLFA Professional Education Center – 1152 Haslett Rd.\, Haslett\, MI 48840 \n\n\n\n \n\n\n\nThis course builds upon the foundation of the Introduction to Floral design course. The focus will be on theinformation presented in the Certified Florist (CF) Manual with the goal of preparing students to take the CF examination. Students who do not wish to take the CF exam are still welcome. \n\n\n\nThe CF manual is the text for this course. You may purchase this manual at www.greatlakesfloralassociation.org (Certified Florist tab in drop down under the Education tab) or call (517) 575-0110. The manual is recommended but not required. Allother materials will be included in the registration fee. \n\n\n\nTime will be divided between lecture and hands on design. A sample test will be given on each topic. Lecture topics include:care and handling of flowers and plants\, product identification\, customer relations\, sales\, delivery\, marketing\, accounting\, display\, and intermediate floral design. Design topics include: vase arrangements\, bridal bouquets\, corsages\, boutonnieres and sympathy. Designs will incorporate the contemporary techniques of grouping\, layering\, basing\, framing\, and many more. \n\n\n\nEach day you will take home your designs. There are 36 hours of classroom instruction. Since this is a personal enrichment course there will be no exams. Includes all flowers and supplies. Lunch is on your own each day. The limited course enrollment of 6 will ensure that each student receives personal attention. \n\n\n\nBring your own tools (pruner\, scissors\, wire cutter\, needle-nose pliers\, and knife). \n\n\n\n \n\n\n\nCOST: $1500.00 member $1750.00 non-member (Includes all flowers/supplies)Class enrollment is limited to 6REGISTRATION FEES ARE NON – REFUNDABLE! \n\n\n\n \n\n\n\n\n\n\n\n \n\n\n\n\n\n\n\n\n\n\n\n\n\n*You Must add a quantity amount Prior to clicking Get Tickets
URL:https://greatlakesfloralassociation.org/event/intermediate-floral-design-5-day-course-5/
LOCATION:GLFA Education Center\, 1152 Haslett Road\, Haslett\, MI\, 48840\, United States
CATEGORIES:Education - Hands On
END:VEVENT
END:VCALENDAR