BEGIN:VCALENDAR
VERSION:2.0
PRODID:-//Great Lakes Floral Association - ECPv6.15.20//NONSGML v1.0//EN
CALSCALE:GREGORIAN
METHOD:PUBLISH
X-WR-CALNAME:Great Lakes Floral Association
X-ORIGINAL-URL:https://greatlakesfloralassociation.org
X-WR-CALDESC:Events for Great Lakes Floral Association
REFRESH-INTERVAL;VALUE=DURATION:PT1H
X-Robots-Tag:noindex
X-PUBLISHED-TTL:PT1H
BEGIN:VTIMEZONE
TZID:America/Detroit
BEGIN:DAYLIGHT
TZOFFSETFROM:-0500
TZOFFSETTO:-0400
TZNAME:EDT
DTSTART:20230312T070000
END:DAYLIGHT
BEGIN:STANDARD
TZOFFSETFROM:-0400
TZOFFSETTO:-0500
TZNAME:EST
DTSTART:20231105T060000
END:STANDARD
BEGIN:DAYLIGHT
TZOFFSETFROM:-0500
TZOFFSETTO:-0400
TZNAME:EDT
DTSTART:20240310T070000
END:DAYLIGHT
BEGIN:STANDARD
TZOFFSETFROM:-0400
TZOFFSETTO:-0500
TZNAME:EST
DTSTART:20241103T060000
END:STANDARD
BEGIN:DAYLIGHT
TZOFFSETFROM:-0500
TZOFFSETTO:-0400
TZNAME:EDT
DTSTART:20250309T070000
END:DAYLIGHT
BEGIN:STANDARD
TZOFFSETFROM:-0400
TZOFFSETTO:-0500
TZNAME:EST
DTSTART:20251102T060000
END:STANDARD
END:VTIMEZONE
BEGIN:VEVENT
DTSTART;TZID=America/Detroit:20240408T090000
DTEND;TZID=America/Detroit:20240412T170000
DTSTAMP:20260425T051900
CREATED:20231218T203105Z
LAST-MODIFIED:20231218T203106Z
UID:14219-1712566800-1712941200@greatlakesfloralassociation.org
SUMMARY:Introduction to Floral Design
DESCRIPTION:Professional Development\n\n\n\nKeeping you at the forefront of the floral industry with Professional Development! \n\n\n\nGLFA Education Center PresentsIntroduction to Floral Design\n\n\n\n \n\n\n\nInstructor: Cindy Ching\, AIFD\,CFMember $1\,250; Non-Member $1\,500 (Includes all flowers/supplies\, fees are non-refundable)WHEN: April 8 – 12\, 2024 (Monday – Friday) 9am to 5pmWHERE: GLFA Professional Education Center – 1152 Haslett Rd.\, Haslett\, MI 48840 \n\n\n\n \n\n\n\nThis comprehensive course will introduce beginning students to the exciting field of floral design. Principles and elements of design\, proper mechanics of construction\, care and handling of fresh materials and use of color are the focal points. For those desiring to become a Certified Florist\, this class is a great first step.  \n\n\n\nTime will be divided between lecture and hands-on design. All materials are included in the course fee and students will have a completed design to take home each day. Topics include: vase arrangements\, symmetrical triangles\, asymmetrical triangles\, and horizontal centerpieces\, round designs\, hand-tied bouquets\, corsages\, and boutonnieres.  \n\n\n\nThe limited course enrollment of 6 will ensure that each student receives personal attention. The class will meet from 9:00am to 5:00pm each day with a 45-minute break for lunch on your own.  There is 36 hours of classroom instruction time. Since this is a personal enrichment course there will be no exams. \n\n\n\nYou must bring your own tools (pruner\, scissor\, and wire cutter).  A floral knife will be provided. \n\n\n\n \n\n\n\nCOST: $1250.00 member $1500.00 non-member (Includes all flowers/supplies)Class enrollment is limited to 6REGISTRATION FEES ARE NON – REFUNDABLE! \n\n\n\n \n\n\n\n\n\n \n\n\n\n\n\n\n\n\n\n\n\n\n\n\n\n*You Must add a quantity amount Prior to clicking Get Tickets
URL:https://greatlakesfloralassociation.org/event/introduction-to-floral-design-10/
LOCATION:GLFA Education Center\, 1152 Haslett Road\, Haslett\, MI\, 48840\, United States
CATEGORIES:Education - Hands On
END:VEVENT
END:VCALENDAR