BEGIN:VCALENDAR
VERSION:2.0
PRODID:-//Great Lakes Floral Association - ECPv6.15.20//NONSGML v1.0//EN
CALSCALE:GREGORIAN
METHOD:PUBLISH
X-WR-CALNAME:Great Lakes Floral Association
X-ORIGINAL-URL:https://greatlakesfloralassociation.org
X-WR-CALDESC:Events for Great Lakes Floral Association
REFRESH-INTERVAL;VALUE=DURATION:PT1H
X-Robots-Tag:noindex
X-PUBLISHED-TTL:PT1H
BEGIN:VTIMEZONE
TZID:America/Detroit
BEGIN:DAYLIGHT
TZOFFSETFROM:-0500
TZOFFSETTO:-0400
TZNAME:EDT
DTSTART:20220313T070000
END:DAYLIGHT
BEGIN:STANDARD
TZOFFSETFROM:-0400
TZOFFSETTO:-0500
TZNAME:EST
DTSTART:20221106T060000
END:STANDARD
BEGIN:DAYLIGHT
TZOFFSETFROM:-0500
TZOFFSETTO:-0400
TZNAME:EDT
DTSTART:20230312T070000
END:DAYLIGHT
BEGIN:STANDARD
TZOFFSETFROM:-0400
TZOFFSETTO:-0500
TZNAME:EST
DTSTART:20231105T060000
END:STANDARD
BEGIN:DAYLIGHT
TZOFFSETFROM:-0500
TZOFFSETTO:-0400
TZNAME:EDT
DTSTART:20240310T070000
END:DAYLIGHT
BEGIN:STANDARD
TZOFFSETFROM:-0400
TZOFFSETTO:-0500
TZNAME:EST
DTSTART:20241103T060000
END:STANDARD
END:VTIMEZONE
BEGIN:VEVENT
DTSTART;TZID=America/Detroit:20231011T100000
DTEND;TZID=America/Detroit:20231011T160000
DTSTAMP:20260425T035105
CREATED:20230719T172805Z
LAST-MODIFIED:20230719T183203Z
UID:13172-1697018400-1697040000@greatlakesfloralassociation.org
SUMMARY:Steps to Certification
DESCRIPTION:Professional Development\n\n\n\nKeeping you at the forefront of the floral industry with Professional Development!\n\n\n\nGLFA Education Center Presents\n\n\n\nSteps to Certification\n\n\n\n \n\n\n\n \n\n\n\nWHEN: Wednesday\, October 11\, 2023WHERE: GLFA Professional Education Center – Haslett\, MITOPIC: Steps to Certification \n\n\n\n• Do’s & Don’ts for Testing• Methods & Mechanics for Hands On• Insight & Answers \n\n\n\nINSTRUCTOR: Cindy Ching AIFD\, CF \n\n\n\nCindy guides those who plan on becoming a Certified Florist. Tips on how to prepare for both the written and design portions of the test. Students will spend part of the day reviewing the written test and then work in the design room learning what is needed to pass the exam. Attendees will leave with a clear understanding of what it takes to pass the prestigious CF exam. \n\n\n\nClass will run from 10:00am – 4:00pm with a break for lunch on your own. \n\n\n\nBring your own tools; (pruners\, knife\, wire cutters\, and scissors) \n\n\n\nCOST: $149.00 member      $199.00 non-member (Includes all flowers/supplies) \n\n\n\nClass enrollment limited to 6 \n\n\n\nREGISTRATION FEES ARE NON – REFUNDABLE! \n\n\n\n\n\n\n\n\n\n\n\n\n\n\n\n\n\n*You Must add a quantity amount Prior to clicking Get Tickets
URL:https://greatlakesfloralassociation.org/event/steps-to-certification-7/
LOCATION:GLFA Education Center\, 1152 Haslett Road\, Haslett\, MI\, 48840\, United States
CATEGORIES:Education - Hands On
ORGANIZER;CN="Great Lakes Floral Association":MAILTO:info@greatlakesfloralassociation.org
END:VEVENT
END:VCALENDAR