BEGIN:VCALENDAR
VERSION:2.0
PRODID:-//Great Lakes Floral Association - ECPv6.15.20//NONSGML v1.0//EN
CALSCALE:GREGORIAN
METHOD:PUBLISH
X-ORIGINAL-URL:https://greatlakesfloralassociation.org
X-WR-CALDESC:Events for Great Lakes Floral Association
REFRESH-INTERVAL;VALUE=DURATION:PT1H
X-Robots-Tag:noindex
X-PUBLISHED-TTL:PT1H
BEGIN:VTIMEZONE
TZID:America/Detroit
BEGIN:DAYLIGHT
TZOFFSETFROM:-0500
TZOFFSETTO:-0400
TZNAME:EDT
DTSTART:20220313T070000
END:DAYLIGHT
BEGIN:STANDARD
TZOFFSETFROM:-0400
TZOFFSETTO:-0500
TZNAME:EST
DTSTART:20221106T060000
END:STANDARD
BEGIN:DAYLIGHT
TZOFFSETFROM:-0500
TZOFFSETTO:-0400
TZNAME:EDT
DTSTART:20230312T070000
END:DAYLIGHT
BEGIN:STANDARD
TZOFFSETFROM:-0400
TZOFFSETTO:-0500
TZNAME:EST
DTSTART:20231105T060000
END:STANDARD
BEGIN:DAYLIGHT
TZOFFSETFROM:-0500
TZOFFSETTO:-0400
TZNAME:EDT
DTSTART:20240310T070000
END:DAYLIGHT
BEGIN:STANDARD
TZOFFSETFROM:-0400
TZOFFSETTO:-0500
TZNAME:EST
DTSTART:20241103T060000
END:STANDARD
END:VTIMEZONE
BEGIN:VEVENT
DTSTART;TZID=America/Detroit:20230826T080000
DTEND;TZID=America/Detroit:20230830T170000
DTSTAMP:20260425T215200
CREATED:20230427T155318Z
LAST-MODIFIED:20230427T161408Z
UID:12577-1693036800-1693414800@greatlakesfloralassociation.org
SUMMARY:Intermediate Floral Design
DESCRIPTION:Professional Development\n\n\n\nKeeping you at the forefront of the floral industry with Professional Development! \n\n\n\nGLFA Education Center PresentsIntermediate Floral Design\n\n\n\n \n\n\n\n \n\n\n\n\n\n\n\nInstructor: Cindy Ching\, AIFD\,CFMember $1\,500; Non-Member $1\,750 (Includes all flowers/supplies\, fees are non-refundable)WHEN: August 26 – 30\, 2023 (Sat. – Wed.) 9am to 5pmWHERE: GLFA Professional Education Center – 1152 Haslett Rd.\, Haslett\, MI 48840 \n\n\n\n \n\n\n\nThis course builds upon the foundation of the Introduction to Floral design course. The focus will be on theinformation presented in the Certified Florist (CF) Manual with the goal of preparing students to take the CF examination. \n\n\n\nStudents who do not wish to take the CF exam are still welcome. The CF manual is the text for this course. You may purchase this manual at www.greatlakesfloralassociation.org (Certified Florist tab in drop down under the Education tab) or call (517) 575-0110. The manual is recommended but not required. Allother materials will be included in the registration fee. \n\n\n\nEach day you will take home your designs. There are 36 hours of classroom instruction. Since this is a personal enrichment course there will be no exams. Includes all flowers and supplies. Lunch is on your own each day. The limited course enrollment of 6 will ensure that each student receives personal attention. \n\n\n\nBring your own tools (pruner\, scissors\, wire cutter\, needle-nose pliers\, and knife). \n\n\n\n \n\n\n\nCOST: $1500.00 member $1750.00 non-member (Includes all flowers/supplies)Class enrollment is limited to 6REGISTRATION FEES ARE NON – REFUNDABLE! \n\n\n\n \n\n\n\n\n\n  \n\n\n\n\n\n\n\n\n\n\n\n\n\n\n\n*You Must add a quantity amount Prior to clicking Get Tickets
URL:https://greatlakesfloralassociation.org/event/intermediate-floral-design-2/
LOCATION:GLFA Education Center\, 1152 Haslett Road\, Haslett\, MI\, 48840\, United States
CATEGORIES:Education - Hands On
ORGANIZER;CN="Great Lakes Floral Association":MAILTO:info@greatlakesfloralassociation.org
END:VEVENT
BEGIN:VEVENT
DTSTART;TZID=America/Detroit:20230830T180000
DTEND;TZID=America/Detroit:20230830T200000
DTSTAMP:20260425T215200
CREATED:20230710T210939Z
LAST-MODIFIED:20230711T042014Z
UID:12905-1693418400-1693425600@greatlakesfloralassociation.org
SUMMARY:Open House / Hands on Workshop
DESCRIPTION:Keeping you at the forefront of the floral industry with Professional Development! \n\n\n\nGLFA Education Center Presents\n\n\n\n \n\n\n\n“Expand Your Designs with Techniques”\n\n\n\na Hands – On Workshop/Open House\n\n\n\n \n\n\n\n \n\n\n\nDon’t miss this chance to learn\, network and share experience with industry peers! This event is open to all industry members. The hands-on workshop is available to the first 20 people who register. Cost to participate in the workshop is $50 for GLFA members and $80 for non-members. Everyone is welcome to watch the workshop. A light meal will be provided for all attendees  \n\n\n\nIn this hands-on workshop you’ll learn how to create profitable designs using different techniques with the same combination of flowers. Techniques shown in this class will include\, armature\, grouping\, hand tying\, pave\, and framing. You will create an armature design that you will get to take home.  \n\n\n\n /technique/ Techniques are used to create a floral design composition; they are the skill sets required to complete an artistic work. \n\n\n\n6:00 – 6:30 (workshop check in\, networking\, shopping) \n\n\n\n6:30 – 7:30 (workshop\, shopping) \n\n\n\n7:30 – 8:00 (networking\, shopping\, wrap up) \n\n\n\n \n\n\n\n \n\n\n\nCOST: $50.00 member $80.00 non-member (All attendees are welcome to watch the workshop)Class enrollment is limited to 20REGISTRATION FEES ARE NON – REFUNDABLE! \n\n\n\n \n\n\n\n\n\n\n\n\n\n\n\nAbout the Instructor: Loann Burke\, AIFD\, AAF\, PFCI\, is an award-winning floral designer and event specialist with Furst Florist in Dayton\, Ohio with over 35 years in the floral industry. A highly sought after speaker and designer\, she shares her passion for flowers through inspirational design seminars\, product demonstrations\, and hands-on workshops around the globe.  Loann won the grand prize in the Sylvia Cup Design Competition\, represented the United States in the World Floral Competition in France\, and currently serves as Design Director for Smithers-Oasis. Loann holds a bachelor’s degree in horticulture from Purdue University\, and a master’s degree in marketing from Wright State University \n\n\n\n\n\n \n\n\n\nThank you to our Sponsors! \n\n\n\n \n\n\n\n\n\n\n\n\n\n\n\n\n\n\n\n\n\n\n\n\n\n\n\n \n\n\n\n\n\n\n\n\n\n\n\n\n\n\n\n\n\n\n\n\n\n \n\n\n\n*You Must add a quantity amount Prior to clicking Get Tickets
URL:https://greatlakesfloralassociation.org/event/open-house-hands-on-workshop/
LOCATION:Kennicott Bros. Co.\, 1331 Troy St.\, Dayton\, OH\, 45404\, United States
CATEGORIES:Education - Hands On
ORGANIZER;CN="Great Lakes Floral Association":MAILTO:info@greatlakesfloralassociation.org
END:VEVENT
END:VCALENDAR