BEGIN:VCALENDAR
VERSION:2.0
PRODID:-//Great Lakes Floral Association - ECPv6.15.20//NONSGML v1.0//EN
CALSCALE:GREGORIAN
METHOD:PUBLISH
X-WR-CALNAME:Great Lakes Floral Association
X-ORIGINAL-URL:https://greatlakesfloralassociation.org
X-WR-CALDESC:Events for Great Lakes Floral Association
REFRESH-INTERVAL;VALUE=DURATION:PT1H
X-Robots-Tag:noindex
X-PUBLISHED-TTL:PT1H
BEGIN:VTIMEZONE
TZID:America/Detroit
BEGIN:DAYLIGHT
TZOFFSETFROM:-0500
TZOFFSETTO:-0400
TZNAME:EDT
DTSTART:20230312T070000
END:DAYLIGHT
BEGIN:STANDARD
TZOFFSETFROM:-0400
TZOFFSETTO:-0500
TZNAME:EST
DTSTART:20231105T060000
END:STANDARD
BEGIN:DAYLIGHT
TZOFFSETFROM:-0500
TZOFFSETTO:-0400
TZNAME:EDT
DTSTART:20240310T070000
END:DAYLIGHT
BEGIN:STANDARD
TZOFFSETFROM:-0400
TZOFFSETTO:-0500
TZNAME:EST
DTSTART:20241103T060000
END:STANDARD
BEGIN:DAYLIGHT
TZOFFSETFROM:-0500
TZOFFSETTO:-0400
TZNAME:EDT
DTSTART:20250309T070000
END:DAYLIGHT
BEGIN:STANDARD
TZOFFSETFROM:-0400
TZOFFSETTO:-0500
TZNAME:EST
DTSTART:20251102T060000
END:STANDARD
END:VTIMEZONE
BEGIN:VEVENT
DTSTART;TZID=America/Detroit:20241008T100000
DTEND;TZID=America/Detroit:20241008T160000
DTSTAMP:20260424T163929
CREATED:20240805T201248Z
LAST-MODIFIED:20240806T020634Z
UID:15313-1728381600-1728403200@greatlakesfloralassociation.org
SUMMARY:Steps to Certification
DESCRIPTION:Professional Development\n\n\n\nKeeping you at the forefront of the floral industry with Professional Development!\n\n\n\nGLFA Education Center Presents\n\n\n\nSteps to Certification\n\n\n\n \n\n\n\n \n\n\n\nWHEN: Tuesday\, October 8\, 2024WHERE: GLFA Professional Education Center – Haslett\, MITOPIC: Steps to Certification \n\n\n\n• Do’s & Don’ts for Testing• Methods & Mechanics for Hands On• Insight & Answers \n\n\n\nINSTRUCTOR: Cindy Ching AIFD\, CF \n\n\n\nCindy guides those who plan on becoming a Certified Florist. Tips on how to prepare for both the written and design portions of the test. Students will spend part of the day reviewing the written test and then work in the design room learning what is needed to pass the exam. Attendees will leave with a clear understanding of what it takes to pass the prestigious CF exam. \n\n\n\nClass will run from 10:00am – 4:00pm with a break for lunch on your own. \n\n\n\nYou Must Bring your own tools; (pruners\, knife\, wire cutters\, and scissors) \n\n\n\nCOST: $149.00 member      $199.00 non-member (Includes all flowers/supplies) \n\n\n\nClass enrollment limited to 6 \n\n\n\nREGISTRATION FEES ARE NON – REFUNDABLE! \n\n\n\n \n\n\n\n \n\n\n\n\n\n \n\n\n\n \n\n\n\n\n\n\n\n\n\n\n\n\n\n\n\n*You Must add a quantity amount Prior to clicking Get Tickets
URL:https://greatlakesfloralassociation.org/event/steps-to-certification-9/
LOCATION:GLFA Education Center\, 1152 Haslett Road\, Haslett\, MI\, 48840\, United States
CATEGORIES:Education - Hands On
ORGANIZER;CN="Great Lakes Floral Association":MAILTO:info@greatlakesfloralassociation.org
END:VEVENT
BEGIN:VEVENT
DTSTART;TZID=America/Detroit:20241008T180000
DTEND;TZID=America/Detroit:20241008T200000
DTSTAMP:20260424T163929
CREATED:20240722T210352Z
LAST-MODIFIED:20240814T194658Z
UID:15103-1728410400-1728417600@greatlakesfloralassociation.org
SUMMARY:Elements of Design Found in Floral Arrangements
DESCRIPTION:Regional Meeting / Workshop\n\n\n\nKeeping you at the forefront of the floral industry with Professional Development!\n\n\n\n \n\n\n\n \n\n\n\n“Elements of Design Found in Floral Arrangements”\n\n\n\n \n\n\n\nHey there\, fellow floral enthusiasts! Let’s dive into the building blocks of any stunning floral arrangement\, the elements of design. These elements are like the magic ingredients that work together to create visual masterpieces. \n\n\n\nReady to get inspired? Let’s explore the elements one by one: \n\n\n\n\nColor: Picture a rainbow of vibrant hues and soft pastels. Color is all about creating a visual feast and setting the mood.\n\n\n\nForm/Shape: Think of the unique shapes and structures of flowers. They can be round\, spiky\, or gracefully curved\, adding depth and interest to your arrangements.\n\n\n\nFragrance: Ah\, the sweet scents! Fragrance is like the invisible perfume of your arrangement\, creating a sensory experience that captivates the senses.\n\n\n\nLine: Imagine the stems and branches as graceful lines. They guide the eye\, creating a sense of movement and flow.\n\n\n\nSize: From tiny buds to dramatic blooms\, size matters! It’s all about finding the perfect balance and creating a cohesive arrangement.\n\n\n\nTexture: Smooth\, velvety\, or prickly texture adds a tactile dimension to your arrangements. It’s like touching a masterpiece!\n\n\n\n\nNow\, the best part—the workshop! Come join us and let’s explore these elements together. We’ll dive deep into each one\, providing tips\, tricks\, and hands-on practice. You’ll leave feeling confident and ready to create breathtaking floral arrangements that’ll steal the show. \n\n\n\nDon’t miss this chance to learn\, network and share experience with industry peers!  This event is open to all industry members.  The hands-on workshop is available to the first 20 people who register.  Cost to participate in the workshop is $50 for GLFA members and $80 for non-members.  All attendees are welcome to watch the workshop.  \n\n\n\nSo\, grab your creativity\, a dash of passion\, and register to attend today! \n\n\n\n6:00 – 6:30 (workshop check in\, networking\, shopping) \n\n\n\n6:30 – 7:30 (workshop\, shopping) \n\n\n\n7:30 – 8:00 (networking\, shopping\, wrap up) \n\n\n\n \n\n\n\nCOST: $50.00 member $80.00 non-member (All attendees are welcome to watch the workshop)REGISTRATION FEES ARE NON – REFUNDABLE! \n\n\n\nInstructor: Jerome Raska AAF\, AIFD\, CF\, CFD\, PFCI \n\n\n\n \n\n\n\n \n\n\n\n\n\n\n\n\n\n\n\nJerome Raska AAF\, AIFD\, CF\, CFD\, PFCIIn the floral industry for over 30 years\, Jerome shares his experiences as a Teleflora Education Specialist with florists\, garden clubs\, and suppliers across the country. He is the past president of the Great Lakes Floral Association and has served the floral industry in many different capacities through SAF and AIFD. \n\n\n\n\n\n \n\n\n\n \n\n\n\n \n\n\n\n \n\n\n\n\nRegister Online here\n\n\n\n\n \n\n\n\n \n\n\n\nThank you to our Sponsors!
URL:https://greatlakesfloralassociation.org/event/elements-of-design-found-in-floral-arrangements-5/
LOCATION:Kennicott Mid-Michigan\, 1400 Tittabawassee Rd\, Saginaw\, Michigan\, 48604\, United States
CATEGORIES:Education - Hands On,Regional Meetings
ORGANIZER;CN="Great Lakes Floral Association":MAILTO:info@greatlakesfloralassociation.org
END:VEVENT
BEGIN:VEVENT
DTSTART;TZID=America/Detroit:20241016T180000
DTEND;TZID=America/Detroit:20241016T200000
DTSTAMP:20260424T163929
CREATED:20240722T230854Z
LAST-MODIFIED:20240814T194838Z
UID:15123-1729101600-1729108800@greatlakesfloralassociation.org
SUMMARY:Elements of Design Found in Floral Arrangements
DESCRIPTION:Regional Meeting / Workshop\n\n\n\nKeeping you at the forefront of the floral industry with Professional Development!\n\n\n\n \n\n\n\n \n\n\n\n“Elements of Design Found in Floral Arrangements”\n\n\n\n \n\n\n\nHey there\, fellow floral enthusiasts! Let’s dive into the building blocks of any stunning floral arrangement\, the elements of design. These elements are like the magic ingredients that work together to create visual masterpieces. \n\n\n\nReady to get inspired? Let’s explore the elements one by one: \n\n\n\n\nColor: Picture a rainbow of vibrant hues and soft pastels. Color is all about creating a visual feast and setting the mood.\n\n\n\nForm/Shape: Think of the unique shapes and structures of flowers. They can be round\, spiky\, or gracefully curved\, adding depth and interest to your arrangements.\n\n\n\nFragrance: Ah\, the sweet scents! Fragrance is like the invisible perfume of your arrangement\, creating a sensory experience that captivates the senses.\n\n\n\nLine: Imagine the stems and branches as graceful lines. They guide the eye\, creating a sense of movement and flow.\n\n\n\nSize: From tiny buds to dramatic blooms\, size matters! It’s all about finding the perfect balance and creating a cohesive arrangement.\n\n\n\nTexture: Smooth\, velvety\, or prickly texture adds a tactile dimension to your arrangements. It’s like touching a masterpiece!\n\n\n\n\nNow\, the best part—the workshop! Come join us and let’s explore these elements together. We’ll dive deep into each one\, providing tips\, tricks\, and hands-on practice. You’ll leave feeling confident and ready to create breathtaking floral arrangements that’ll steal the show. \n\n\n\nDon’t miss this chance to learn\, network and share experience with industry peers!  This event is open to all industry members.  The hands-on workshop is available to the first 20 people who register.  Cost to participate in the workshop is $50 for GLFA members and $80 for non-members.  All attendees are welcome to watch the workshop.  \n\n\n\nSo\, grab your creativity\, a dash of passion\, and register to attend today! \n\n\n\n6:00 – 6:30 (workshop check in\, networking\, shopping) \n\n\n\n6:30 – 7:30 (workshop\, shopping) \n\n\n\n7:30 – 8:00 (networking\, shopping\, wrap up) \n\n\n\n \n\n\n\nCOST: $50.00 member $80.00 non-member (All attendees are welcome to watch the workshop)REGISTRATION FEES ARE NON – REFUNDABLE! \n\n\n\nInstructor: Michelle Soupley AIFD\, CFD \n\n\n\n \n\n\n\n \n\n\n\n\n\n\n\n\n\n\n\nWith over 30 years of experience in the floral industry\, Michelle Soupley is continuously seeking education and delights in sharing her knowledge with others.  \n\n\n\nMichelle appreciates the critical role of the Principals and Elements of floral design. Equally passionate about weddings and events\, Michelle thrives on building meaningful relationships with her clients.  \n\n\n\nHer commitment to excellence in both design fundamentals and event execution demonstrates her dedication to the floral industry. \n\n\n\n\n\n \n\n\n\n \n\n\n\n\nRegister Online here\n\n\n\n\n \n\n\n\n \n\n\n\nThank you to our Sponsors!
URL:https://greatlakesfloralassociation.org/event/elements-of-design-found-in-floral-arrangements-6/
LOCATION:Kennicott Indianapolis\, 3945 Industrial Blvd\, Indianapolis\, Indiana\, 46254\, United States
CATEGORIES:Education - Hands On,Regional Meetings
ORGANIZER;CN="Great Lakes Floral Association":MAILTO:info@greatlakesfloralassociation.org
END:VEVENT
BEGIN:VEVENT
DTSTART;TZID=America/Detroit:20241023T180000
DTEND;TZID=America/Detroit:20241023T200000
DTSTAMP:20260424T163929
CREATED:20240722T234452Z
LAST-MODIFIED:20240814T195039Z
UID:15147-1729706400-1729713600@greatlakesfloralassociation.org
SUMMARY:Elements of Design Found in Floral Arrangements
DESCRIPTION:Regional Meeting / Workshop\n\n\n\nKeeping you at the forefront of the floral industry with Professional Development!\n\n\n\n \n\n\n\n \n\n\n\n“Elements of Design Found in Floral Arrangements”\n\n\n\n \n\n\n\nHey there\, fellow floral enthusiasts! Let’s dive into the building blocks of any stunning floral arrangement\, the elements of design. These elements are like the magic ingredients that work together to create visual masterpieces. \n\n\n\nReady to get inspired? Let’s explore the elements one by one: \n\n\n\n\nColor: Picture a rainbow of vibrant hues and soft pastels. Color is all about creating a visual feast and setting the mood.\n\n\n\nForm/Shape: Think of the unique shapes and structures of flowers. They can be round\, spiky\, or gracefully curved\, adding depth and interest to your arrangements.\n\n\n\nFragrance: Ah\, the sweet scents! Fragrance is like the invisible perfume of your arrangement\, creating a sensory experience that captivates the senses.\n\n\n\nLine: Imagine the stems and branches as graceful lines. They guide the eye\, creating a sense of movement and flow.\n\n\n\nSize: From tiny buds to dramatic blooms\, size matters! It’s all about finding the perfect balance and creating a cohesive arrangement.\n\n\n\nTexture: Smooth\, velvety\, or prickly texture adds a tactile dimension to your arrangements. It’s like touching a masterpiece!\n\n\n\n\nNow\, the best part—the workshop! Come join us and let’s explore these elements together. We’ll dive deep into each one\, providing tips\, tricks\, and hands-on practice. You’ll leave feeling confident and ready to create breathtaking floral arrangements that’ll steal the show. \n\n\n\nDon’t miss this chance to learn\, network and share experience with industry peers!  This event is open to all industry members.  The hands-on workshop is available to the first 20 people who register.  Cost to participate in the workshop is $50 for GLFA members and $80 for non-members.  All attendees are welcome to watch the workshop.  \n\n\n\nSo\, grab your creativity\, a dash of passion\, and register to attend today! \n\n\n\n6:00 – 6:30 (workshop check in\, networking\, shopping) \n\n\n\n6:30 – 7:30 (workshop\, shopping) \n\n\n\n7:30 – 8:00 (networking\, shopping\, wrap up) \n\n\n\n \n\n\n\nCOST: $50.00 member $80.00 non-member (All attendees are welcome to watch the workshop)REGISTRATION FEES ARE NON – REFUNDABLE! \n\n\n\nInstructor: Jennifer Linehan AIFD\, CF\, CFD \n\n\n\n \n\n\n\n \n\n\n\n\n\n\n\n\n\n\n\nJennifer Linehan AIFD\, CF\, CFD is from Sylvania\, OH. She is the owner of Beautiful Blooms by Jen which she founded 15 years ago. She started in the industry as a Floral Design Instructor at a local high school\, owning her own flower shop was her dream from early on. Jen was inducted into AIFD during its annual Symposium in July of 2023 \n\n\n\n\n\n \n\n\n\n \n\n\n\n \n\n\n\n\nRegister Online here\n\n\n\n\n \n\n\n\n \n\n\n\nThank you to our Sponsors!
URL:https://greatlakesfloralassociation.org/event/elements-of-design-found-in-floral-arrangements-7/
LOCATION:Kennicott Grand Rapids\, 1858 3 Mile Rd NW\, Walker\, Michigan\, 49544\, United States
CATEGORIES:Education - Hands On,Regional Meetings
ORGANIZER;CN="Great Lakes Floral Association":MAILTO:info@greatlakesfloralassociation.org
END:VEVENT
BEGIN:VEVENT
DTSTART;TZID=America/Detroit:20241029T180000
DTEND;TZID=America/Detroit:20241029T200000
DTSTAMP:20260424T163929
CREATED:20240723T175049Z
LAST-MODIFIED:20240814T195216Z
UID:15195-1730224800-1730232000@greatlakesfloralassociation.org
SUMMARY:Elements of Design Found in Floral Arrangements
DESCRIPTION:Regional Meeting / Workshop\n\n\n\nKeeping you at the forefront of the floral industry with Professional Development!\n\n\n\n \n\n\n\n \n\n\n\n“Elements of Design Found in Floral Arrangements”\n\n\n\n \n\n\n\nHey there\, fellow floral enthusiasts! Let’s dive into the building blocks of any stunning floral arrangement\, the elements of design. These elements are like the magic ingredients that work together to create visual masterpieces. \n\n\n\nReady to get inspired? Let’s explore the elements one by one: \n\n\n\n\nColor: Picture a rainbow of vibrant hues and soft pastels. Color is all about creating a visual feast and setting the mood.\n\n\n\nForm/Shape: Think of the unique shapes and structures of flowers. They can be round\, spiky\, or gracefully curved\, adding depth and interest to your arrangements.\n\n\n\nFragrance: Ah\, the sweet scents! Fragrance is like the invisible perfume of your arrangement\, creating a sensory experience that captivates the senses.\n\n\n\nLine: Imagine the stems and branches as graceful lines. They guide the eye\, creating a sense of movement and flow.\n\n\n\nSize: From tiny buds to dramatic blooms\, size matters! It’s all about finding the perfect balance and creating a cohesive arrangement.\n\n\n\nTexture: Smooth\, velvety\, or prickly texture adds a tactile dimension to your arrangements. It’s like touching a masterpiece!\n\n\n\n\nNow\, the best part—the workshop! Come join us and let’s explore these elements together. We’ll dive deep into each one\, providing tips\, tricks\, and hands-on practice. You’ll leave feeling confident and ready to create breathtaking floral arrangements that’ll steal the show. \n\n\n\nDon’t miss this chance to learn\, network and share experience with industry peers!  This event is open to all industry members.  The hands-on workshop is available to the first 20 people who register.  Cost to participate in the workshop is $50 for GLFA members and $80 for non-members.  All attendees are welcome to watch the workshop.  \n\n\n\nSo\, grab your creativity\, a dash of passion\, and register to attend today! \n\n\n\n6:00 – 6:30 (workshop check in\, networking\, shopping) \n\n\n\n6:30 – 7:30 (workshop\, shopping) \n\n\n\n7:30 – 8:00 (networking\, shopping\, wrap up) \n\n\n\n \n\n\n\nCOST: $50.00 member $80.00 non-member (All attendees are welcome to watch the workshop)REGISTRATION FEES ARE NON – REFUNDABLE! \n\n\n\nInstructor: Jerome Raska AAF\, AIFD\, CF\, CFD\, PFCI \n\n\n\n \n\n\n\n \n\n\n\n\n\n\n\n\n\n\n\nJerome Raska AAF\, AIFD\, CF\, CFD\, PFCIIn the floral industry for over 30 years\, Jerome shares his experiences as a Teleflora Education Specialist with florists\, garden clubs\, and suppliers across the country. He is the past president of the Great Lakes Floral Association and has served the floral industry in many different capacities through SAF and AIFD.  \n\n\n\n\n\n \n\n\n\n \n\n\n\n \n\n\n\n\nRegister Online here\n\n\n\n\n \n\n\n\n \n\n\n\nThank you to our Sponsors!
URL:https://greatlakesfloralassociation.org/event/elements-of-design-found-in-floral-arrangements-9/
LOCATION:Event Theory\, 1449 Industry Dr\,\, Traverse City\, Michigan\, 49696\, United States
CATEGORIES:Education - Hands On,Regional Meetings
ORGANIZER;CN="Great Lakes Floral Association":MAILTO:info@greatlakesfloralassociation.org
END:VEVENT
END:VCALENDAR